BEGIN:VCALENDAR
VERSION:2.0
PRODID:-//Unity - ECPv6.15.17.1//NONSGML v1.0//EN
CALSCALE:GREGORIAN
METHOD:PUBLISH
X-WR-CALNAME:Unity
X-ORIGINAL-URL:https://unityonline.org.uk
X-WR-CALDESC:Events for Unity
REFRESH-INTERVAL;VALUE=DURATION:PT1H
X-Robots-Tag:noindex
X-PUBLISHED-TTL:PT1H
BEGIN:VTIMEZONE
TZID:Europe/London
BEGIN:DAYLIGHT
TZOFFSETFROM:+0000
TZOFFSETTO:+0100
TZNAME:BST
DTSTART:20250330T010000
END:DAYLIGHT
BEGIN:STANDARD
TZOFFSETFROM:+0100
TZOFFSETTO:+0000
TZNAME:GMT
DTSTART:20251026T010000
END:STANDARD
BEGIN:DAYLIGHT
TZOFFSETFROM:+0000
TZOFFSETTO:+0100
TZNAME:BST
DTSTART:20260329T010000
END:DAYLIGHT
BEGIN:STANDARD
TZOFFSETFROM:+0100
TZOFFSETTO:+0000
TZNAME:GMT
DTSTART:20261025T010000
END:STANDARD
BEGIN:DAYLIGHT
TZOFFSETFROM:+0000
TZOFFSETTO:+0100
TZNAME:BST
DTSTART:20270328T010000
END:DAYLIGHT
BEGIN:STANDARD
TZOFFSETFROM:+0100
TZOFFSETTO:+0000
TZNAME:GMT
DTSTART:20271031T010000
END:STANDARD
END:VTIMEZONE
BEGIN:VEVENT
DTSTART;TZID=Europe/London:20260511T190000
DTEND;TZID=Europe/London:20260511T210000
DTSTAMP:20260420T165325
CREATED:20260401T135430Z
LAST-MODIFIED:20260401T135430Z
UID:12751-1778526000-1778533200@unityonline.org.uk
SUMMARY:An Officer and Her Gentleman
DESCRIPTION:Two aviators\, two cockpits\, one journey - an inspiring story of achieving dreams in the face of obstacles with Mandy and Craig Hickson. \nFind out about their decision under pressure\, leadership\, resilience and the humour needed to reach beyond the skies talk. \nA copy of the book - An Officer and Her Gentleman will be available to purchase on the night. \nTickets available. \n 
URL:https://unityonline.org.uk/event/an-officer-and-her-gentleman/
LOCATION:Army Flying Museum\,\, Middle Wallop\, Stockbridge\, Hampshire\,\, SO20 8FB\, United Kingdom
CATEGORIES:History
ATTACH;FMTTYPE=image/png:https://unityonline.org.uk/wp-content/uploads/2026/04/Army-flying-an-office-and-his-lady.png
END:VEVENT
BEGIN:VEVENT
DTSTART;TZID=Europe/London:20260530T100000
DTEND;TZID=Europe/London:20260530T140000
DTSTAMP:20260420T165325
CREATED:20260313T114010Z
LAST-MODIFIED:20260313T114010Z
UID:12620-1780135200-1780149600@unityonline.org.uk
SUMMARY:Plant Sale
DESCRIPTION:Find a wonderful selection of locally grown plants whether you are looking for colourful blooms\, hardy perennials\, or something special to brighten up your space\, there will be plenty to choose from. \nDo not forget to treat yourself to delicious refreshments\, including homemade scones and cupcakes. \nEveryone welcome.
URL:https://unityonline.org.uk/event/plant-sale/
LOCATION:Countess of Brecknock Hospice Trust\, Brecknock House Henry Gamman Drive Charlton Road\, Andover\, SP10 3LB\, United Kingdom
CATEGORIES:family,Market,Shopping
ATTACH;FMTTYPE=image/png:https://unityonline.org.uk/wp-content/uploads/2026/03/countess-of-bednock.png
END:VEVENT
BEGIN:VEVENT
DTSTART;TZID=Europe/London:20260606T190000
DTEND;TZID=Europe/London:20260606T213000
DTSTAMP:20260420T165325
CREATED:20260413T111336Z
LAST-MODIFIED:20260413T111336Z
UID:12856-1780772400-1780781400@unityonline.org.uk
SUMMARY:An evening with Miss Sassy Stryker!
DESCRIPTION:Join Picket Twenty Community Association for our OVER 18’S ONLY evening of comedy and entertainment with the fabulous Miss Sassy Stryker!  \nMusic from 7pm and our fabulous act performing from 8pm.  \nOur community bar will be open serving your favourite drinks\, cocktails and snacks.  \nSassy Stryker has been performing all over the world for many years with over 3500 shows.  \nEdinburgh festival\, Bangkok\, Spain\, New York\, Australia\, Denmark & Ireland. A complete comedy Drag show!  \nSit back\, relax and enjoy! \nTickets £12 per person - limited tickets available
URL:https://unityonline.org.uk/event/an-evening-with-miss-sassy-stryker/
LOCATION:Picket Twenty Community Centre\, Andover\,\, SP11 6TY\, United Kingdom
ATTACH;FMTTYPE=image/png:https://unityonline.org.uk/wp-content/uploads/2026/04/picket-twenty-drag.png
END:VEVENT
BEGIN:VEVENT
DTSTART;TZID=Europe/London:20260619T200000
DTEND;TZID=Europe/London:20260619T223000
DTSTAMP:20260420T165325
CREATED:20260414T144744Z
LAST-MODIFIED:20260414T144744Z
UID:12903-1781899200-1781908200@unityonline.org.uk
SUMMARY:Keys in Concert - Brett Wales
DESCRIPTION:Join us for an evening of melodic easy listening with music performed on the electronic keyboard by the fabulous Brett Wales.  \nFree interval refreshments are available for all.  \n£10 per ticket\, available on the door on the night.
URL:https://unityonline.org.uk/event/keys-in-concert-brett-wales/
LOCATION:Picket Twenty Community Centre\, Andover\,\, SP11 6TY\, United Kingdom
ATTACH;FMTTYPE=image/png:https://unityonline.org.uk/wp-content/uploads/2026/04/keys-in-concert-5.png
END:VEVENT
BEGIN:VEVENT
DTSTART;TZID=Europe/London:20260620T120000
DTEND;TZID=Europe/London:20260620T180000
DTSTAMP:20260420T165325
CREATED:20260420T113646Z
LAST-MODIFIED:20260420T113646Z
UID:12949-1781956800-1781978400@unityonline.org.uk
SUMMARY:Andover Pride 2026
DESCRIPTION:Andover Pride 2026 is a free\, family‑friendly celebration bringing our community together for a joyful day of live music\, entertainment\, food\, drink and activities for all ages. Join us to celebrate diversity\, inclusivity and equality\, enjoy great vibes\, and help create a welcoming space where everyone can feel safe\, valued and proud in our town.
URL:https://unityonline.org.uk/event/andover-pride-2026/
LOCATION:Pocket Park\,\, Town Mills\, Andover\, SP10 1BL\, United Kingdom
CATEGORIES:Art,family,Young people
ATTACH;FMTTYPE=image/png:https://unityonline.org.uk/wp-content/uploads/2026/04/Andover-Pride-2026.png
ORGANIZER;CN="Andover Town Council":MAILTO:office@andover-tc.gov.uk
END:VEVENT
BEGIN:VEVENT
DTSTART;TZID=Europe/London:20260623T103000
DTEND;TZID=Europe/London:20260623T123000
DTSTAMP:20260420T165325
CREATED:20260401T130004Z
LAST-MODIFIED:20260401T130004Z
UID:12744-1782210600-1782217800@unityonline.org.uk
SUMMARY:Moonlight Crusaders with Paul Smiddy
DESCRIPTION:Author and RAF Pilot - Paul Smiddy is presenting at the Army Flying Museum an evening diving into history of the men who flew the dangerous mission with the Special Operations Executive. \nTickets are available at a cost of £12.00. \n  \n 
URL:https://unityonline.org.uk/event/moonlight-crusaders-with-paul-smiddy/
LOCATION:Army Flying Museum\, www.armyflying.com The Museum of Army Flying Middle Wallop\,\, Stockbridge\, SO20 8DY\, United Kingdom
CATEGORIES:History
ATTACH;FMTTYPE=image/png:https://unityonline.org.uk/wp-content/uploads/2026/04/Army-flying-moonlight.png
END:VEVENT
BEGIN:VEVENT
DTSTART;TZID=Europe/London:20260623T140000
DTEND;TZID=Europe/London:20260623T150000
DTSTAMP:20260420T165325
CREATED:20260311T134135Z
LAST-MODIFIED:20260311T144641Z
UID:12564-1782223200-1782226800@unityonline.org.uk
SUMMARY:Cyber Essentials for Charities Workshop
DESCRIPTION:Strengthening your Organisations Cyber Resilience. \nCharities play a vital role in the community\, often handling sensitive information and operating with limited resources. As the threat of cyber-attacks continues to grow\, it is essential for charities to protect their data\, systems\, and reputation. For charity leaders and trustees\, understanding and adopting Cyber Essentials is not just a matter of compliance\, but a significant step towards ensuring long-term organisational resilience. \nThis workshop will enable your group to strengthen your charity's cyber security\, helping you meet data protection obligations under GDPR and other regulations. \nAn online workshop - https://www.eventbrite.com/e/cyber-essentials-for-charities-tickets-1984961279621 \nDelivered by South East Cyber Surrey & Sussex Police in partnership with CIP (Community Infrastructure Partnership). \n 
URL:https://unityonline.org.uk/event/cyber-essentials-for-charities-workshop/
LOCATION:Hampshire
CATEGORIES:Training
ATTACH;FMTTYPE=image/png:https://unityonline.org.uk/wp-content/uploads/2025/04/CIP-Main-Logo_background.png
END:VEVENT
BEGIN:VEVENT
DTSTART;TZID=Europe/London:20260627T173000
DTEND;TZID=Europe/London:20260627T213000
DTSTAMP:20260420T165325
CREATED:20260203T133322Z
LAST-MODIFIED:20260203T133322Z
UID:12217-1782581400-1782595800@unityonline.org.uk
SUMMARY:Bingo Night
DESCRIPTION:Join us for our community Bingo nights!  \nWe kick off our evening with our family bingo where you can try your luck to win some fabulous prizes.  \nFollowed by our adults only cash bingo.  \nOur community bar will be open\, selling all your favourite drinks and snacks.  \nNo booking required.
URL:https://unityonline.org.uk/event/bingo-night-5/
LOCATION:Picket Twenty Community Centre\, Andover\,\, SP11 6TY\, United Kingdom
CATEGORIES:family,Young people
ATTACH;FMTTYPE=image/jpeg:https://unityonline.org.uk/wp-content/uploads/2026/02/Blue-And-Red-Modern-Bingo-Night-Online-Poster-1-6d518cc59b45adba9931f17a7f055d72-1.jpg
ORGANIZER;CN="Picket Twenty Community Association":MAILTO:stacey@pickettwenty.co.uk
END:VEVENT
BEGIN:VEVENT
DTSTART;TZID=Europe/London:20260717T200000
DTEND;TZID=Europe/London:20260717T220000
DTSTAMP:20260420T165325
CREATED:20260414T143836Z
LAST-MODIFIED:20260414T143836Z
UID:12900-1784318400-1784325600@unityonline.org.uk
SUMMARY:Keys in Concert - Nicholas Martin
DESCRIPTION:Join us for an evening of melodic easy listening with music performed on the electronic keyboard by the fabulous Nicholas Martin.  \nFree interval refreshments are available for all.  \n£10 per ticket\, available on the door on the night.
URL:https://unityonline.org.uk/event/keys-in-concert-nicholas-martin/
LOCATION:Picket Twenty Community Centre\, Andover\,\, SP11 6TY\, United Kingdom
ATTACH;FMTTYPE=image/png:https://unityonline.org.uk/wp-content/uploads/2026/04/keys-in-concert-4.png
END:VEVENT
BEGIN:VEVENT
DTSTART;TZID=Europe/London:20260718T173000
DTEND;TZID=Europe/London:20260718T213000
DTSTAMP:20260420T165325
CREATED:20260203T132723Z
LAST-MODIFIED:20260203T132723Z
UID:12213-1784395800-1784410200@unityonline.org.uk
SUMMARY:Bingo Night
DESCRIPTION:Join us for our community Bingo nights!  \nWe kick off our evening with our family bingo where you can try your luck to win some fabulous prizes.  \nFollowed by our adults only cash bingo.  \nOur community bar will be open\, selling all your favourite drinks and snacks.  \nNo booking required.
URL:https://unityonline.org.uk/event/bingo-night-4/
LOCATION:Picket Twenty Community Centre\, Andover\,\, SP11 6TY\, United Kingdom
CATEGORIES:family,Young people
ATTACH;FMTTYPE=image/jpeg:https://unityonline.org.uk/wp-content/uploads/2026/02/Blue-And-Red-Modern-Bingo-Night-Online-Poster-1-6d518cc59b45adba9931f17a7f055d72.jpg
ORGANIZER;CN="Picket Twenty Community Association":MAILTO:stacey@pickettwenty.co.uk
END:VEVENT
BEGIN:VEVENT
DTSTART;TZID=Europe/London:20260719T120000
DTEND;TZID=Europe/London:20260719T210000
DTSTAMP:20260420T165325
CREATED:20260204T140641Z
LAST-MODIFIED:20260204T140641Z
UID:12244-1784462400-1784494800@unityonline.org.uk
SUMMARY:Andover Carnival
DESCRIPTION:The Andover Carnival has been a beloved community event for over 100 years\, first taking place in 1924! \nOriginally created to bring the town together in celebration\, the carnival has evolved over the decades\, becoming one of Andover’s biggest and most anticipated annual events. \nA spectacular day of fun\, entertainment\, and charity\, with a vibrant parade\, a family-friendly fun day\, and incredible live music and performances. \nVigo Park - 12pm to 9pm \nHigh Street - 12pm to 4.30pm \nProcessional Parade - 4pm to 5.30pm \nEveryone Welcome
URL:https://unityonline.org.uk/event/andover-carnival/
LOCATION:Vigo Road Park\, Vigo Rd\,\, Andover\, SP10 1\, United Kingdom
CATEGORIES:Art,family,Music,Young people
ATTACH;FMTTYPE=image/png:https://unityonline.org.uk/wp-content/uploads/2026/02/Andover-Carnival.png
END:VEVENT
BEGIN:VEVENT
DTSTART;TZID=Europe/London:20260804T110000
DTEND;TZID=Europe/London:20260804T130000
DTSTAMP:20260420T165325
CREATED:20260112T165838Z
LAST-MODIFIED:20260112T165838Z
UID:11955-1785841200-1785848400@unityonline.org.uk
SUMMARY:Colour Pop Disco
DESCRIPTION:Join us for our very colourful\, very vibrant colour pop disco!  \nWear your brightest outfit and hit the dancefloor with us!  \nFree entry and free refreshments will be provided. \n All you need is your dancing feet!  \nNo booking required.
URL:https://unityonline.org.uk/event/colour-pop-disco/
LOCATION:Picket Twenty Community Centre\, Andover\,\, SP11 6TY\, United Kingdom
CATEGORIES:family,Music,School holidays
ATTACH;FMTTYPE=image/png:https://unityonline.org.uk/wp-content/uploads/2026/01/colour-pop-disco-picket-twenty-community-association.png
ORGANIZER;CN="Picket Twenty Community Association":MAILTO:stacey@pickettwenty.co.uk
END:VEVENT
BEGIN:VEVENT
DTSTART;VALUE=DATE:20260912
DTEND;VALUE=DATE:20260914
DTSTAMP:20260420T165325
CREATED:20260128T135922Z
LAST-MODIFIED:20260128T135950Z
UID:12119-1789171200-1789343999@unityonline.org.uk
SUMMARY:The Age of Flight - Hampshire Air Festival
DESCRIPTION:Hampshire Air Festival is a new two-day aviation weekend taking place at Thruxton Circuit and Aerodrome\, Hampshire\, on 12–13 September 2026\, celebrating The Age of Flight with flying and static displays\, heritage aircraft and family-friendly attractions. \nOrganised by Montserrat Events Festivals Limited\, the show will feature aircraft representing over a century of aviation\, a Saturday evening extravaganza of pyro-aerobatics\, drone\, light and firework displays\, plus camping\, hospitality and partnership opportunities for visitors and businesses alike. \nThe initial flying announcements reflect the festival’s ambition to tell the story of over 100 years of aviation in the air. Aircraft and displays confirmed so far include: \n· The Great War Display Team – meticulously crafted First World War replicas recreating the drama and daring of early aerial combat. \n· Rich Goodwin Airshows – the Jet Pitts Special G-JPIT\, a heavily re-engineered Pitts S2S biplane fitted with twin jet engines\, showcasing British innovation and hybrid performance. \n· DroneSwarm – a cutting-edge drone light show as part of the Saturday night spectacle\, using a fleet of synchronised drones to tell a story in the night sky. \n· Bob Davy’s Yak-3 – a Yak-3UTI replica powered by a Pratt & Whitney R-1830 Twin Wasp\, presenting the spirit of the legendary Eastern Front fighter with a distinctive Ukrainian-support scheme. \n· Supermarine Spitfire RR232 “City of Exeter” – a Mk IX Spitfire built in 1944\, restored over 13 years and now operated by Spitfires.com at Goodwood Aerodrome\, appearing in the aircraft’s 90th anniversary year. \nFurther aircraft representing different eras of The Age of Flight\, including additional warbirds\, aerobatic acts and more modern airframes\, will be announced in the coming months.
URL:https://unityonline.org.uk/event/the-age-of-flight-hampshire-air-festival/
LOCATION:Thruxton\, Red Post Bridge\, Thruxton\, SP11 8PN\, United Kingdom
CATEGORIES:family,History
END:VEVENT
BEGIN:VEVENT
DTSTART;TZID=Europe/London:20260918T200000
DTEND;TZID=Europe/London:20260918T223000
DTSTAMP:20260420T165325
CREATED:20260414T143651Z
LAST-MODIFIED:20260414T143651Z
UID:12897-1789761600-1789770600@unityonline.org.uk
SUMMARY:Keys in Concert - Lewis Scott
DESCRIPTION:Join us for an evening of melodic easy listening with music performed on the electronic keyboard by the fabulous Lewis Scott.  \nFree interval refreshments are available for all.  \n£10 per ticket\, available on the door on the night.
URL:https://unityonline.org.uk/event/keys-in-concert-lewis-scott/
LOCATION:Picket Twenty Community Centre\, Andover\,\, SP11 6TY\, United Kingdom
ATTACH;FMTTYPE=image/png:https://unityonline.org.uk/wp-content/uploads/2026/04/keys-in-concert-3.png
END:VEVENT
BEGIN:VEVENT
DTSTART;VALUE=DATE:20260927
DTEND;VALUE=DATE:20260928
DTSTAMP:20260420T165325
CREATED:20260310T153747Z
LAST-MODIFIED:20260310T153957Z
UID:12548-1790467200-1790553599@unityonline.org.uk
SUMMARY:Walk the Test Way
DESCRIPTION:Step Into Nature and Make a Difference: Walk the Test Way Returns \nWalkers across Hampshire and beyond are being invited to lace up their boots and take part in the much-loved Walk the Test Way\, a unique charity walking event organised by the Rotary Club of Romsey Test. \nTaking place along the beautiful Test Way in Hampshire\, the annual event gives participants the chance to enjoy stunning countryside while raising money for a charity of their choice. \nWith routes ranging from 5 miles to over 25 miles\, the event is designed for everyone — from families looking for a scenic day out to seasoned walkers seeking a rewarding challenge. Participants are transported to their chosen starting point and walk back to Romsey\, where a warm welcome\, refreshments and a medal await. \nSince its launch in 2003\, Walk the Test Way has raised more than £1.3 million for charities across the UK. In recent years alone\, tens of thousands of pounds have been distributed annually to causes including health charities\, youth organisations\, disability support groups and local community initiatives. \nWhat makes Walk the Test Way special is its flexibility — participants can raise funds for any registered charity close to their heart. Every step taken directly benefits causes that matter most to the walkers themselves. \nBeyond fundraising\, the event is a celebration of community spirit. Families\, schools\, businesses and local groups walk side by side\, sharing stories\, encouragement and a shared sense of achievement as they cross the finish line together. \nA spokesperson for the organisers said: “Walk the Test Way is about bringing people together to enjoy the Hampshire countryside while making a real difference. Whether you walk five miles or twenty-five\, every step helps someone in need.” \nRegistration opens in May 2026. \nFor full details and to register - registrar@walkthetestway.org.uk \nvisit: www.walkthetestway.org.uk
URL:https://unityonline.org.uk/event/walk-the-test-way/
LOCATION:Hampshire
CATEGORIES:family,Sport
ATTACH;FMTTYPE=image/png:https://unityonline.org.uk/wp-content/uploads/2026/03/Walk-the-Test-Way.png
END:VEVENT
BEGIN:VEVENT
DTSTART;TZID=Europe/London:20261016T200000
DTEND;TZID=Europe/London:20261016T223000
DTSTAMP:20260420T165325
CREATED:20260414T143252Z
LAST-MODIFIED:20260414T143252Z
UID:12894-1792180800-1792189800@unityonline.org.uk
SUMMARY:Keys in Concert - Andrew Nix
DESCRIPTION:Join us for an evening of melodic easy listening with music performed on the electronic keyboard by the fabulous Andrew Nix.  \nFree interval refreshments are available for all.  \n£10 per ticket\, available on the door on the night.
URL:https://unityonline.org.uk/event/keys-in-concert-andrew-nix/
LOCATION:Picket Twenty Community Centre\, Andover\,\, SP11 6TY\, United Kingdom
ATTACH;FMTTYPE=image/png:https://unityonline.org.uk/wp-content/uploads/2026/04/keys-in-concert-2.png
END:VEVENT
BEGIN:VEVENT
DTSTART;TZID=Europe/London:20261117T093000
DTEND;TZID=Europe/London:20261117T160000
DTSTAMP:20260420T165325
CREATED:20260130T101900Z
LAST-MODIFIED:20260130T101900Z
UID:12134-1794907800-1794931200@unityonline.org.uk
SUMMARY:Embracing Autism
DESCRIPTION:A day that focuses on skills and strategies\, for parents\, carers and professionals supporting a child with Autism. \nTopics included - \nSupporting your autistic child to thrive - adapting to meet the needs of the autistic young person and practical strategies. \nSupport for SEN in education & what to do if it's not working. \nSupporting Young People to Make Sense of their Experiences - empowering young people and putting them at the centre of their experience. \nGuest Speaker - Jess Parker from The Grove Practice. \nTickets £20 including refreshments - (Discretionary tickets available to families on request).
URL:https://unityonline.org.uk/event/embracing-autism/
LOCATION:Andover community Church·\, Charlton Road\, Andover\, SP10 3JH\, United Kingdom
CATEGORIES:Childcare,family,support
ATTACH;FMTTYPE=image/jpeg:https://unityonline.org.uk/wp-content/uploads/2026/01/Camhs.jpg
END:VEVENT
BEGIN:VEVENT
DTSTART;TZID=Europe/London:20261120T200000
DTEND;TZID=Europe/London:20261120T223000
DTSTAMP:20260420T165325
CREATED:20260414T142723Z
LAST-MODIFIED:20260414T142723Z
UID:12890-1795204800-1795213800@unityonline.org.uk
SUMMARY:Keys in Concert - Robert Davis
DESCRIPTION:Join us for an evening of melodic easy listening with music performed on the electronic keyboard by the fabulous Robert Davies.  \nFree interval refreshments are available for all.  \n£10 per ticket\, available on the door on the night.
URL:https://unityonline.org.uk/event/keys-in-concert-robert-davis/
LOCATION:Picket Twenty Community Centre\, Andover\,\, SP11 6TY\, United Kingdom
ATTACH;FMTTYPE=image/png:https://unityonline.org.uk/wp-content/uploads/2026/04/keys-in-concert-1.png
END:VEVENT
BEGIN:VEVENT
DTSTART;TZID=Europe/London:20261218T200000
DTEND;TZID=Europe/London:20261218T220000
DTSTAMP:20260420T165325
CREATED:20260414T142239Z
LAST-MODIFIED:20260414T142902Z
UID:12887-1797624000-1797631200@unityonline.org.uk
SUMMARY:Keys in Concert - Elizabeth Harrison
DESCRIPTION:Join us for an evening of melodic easy listening with music performed on the electronic keyboard by the fabulous Elizabeth Harrison. \nFree interval refreshments are available for all. \n£10 per ticket\, available on the door on the night. \n 
URL:https://unityonline.org.uk/event/keys-in-concert-4/
LOCATION:Picket Twenty Community Centre\, Andover\,\, SP11 6TY\, United Kingdom
ATTACH;FMTTYPE=image/png:https://unityonline.org.uk/wp-content/uploads/2026/04/keys-in-concert.png
END:VEVENT
END:VCALENDAR