BEGIN:VCALENDAR
VERSION:2.0
PRODID:-//Unity - ECPv6.15.17.1//NONSGML v1.0//EN
CALSCALE:GREGORIAN
METHOD:PUBLISH
X-WR-CALNAME:Unity
X-ORIGINAL-URL:https://unityonline.org.uk
X-WR-CALDESC:Events for Unity
REFRESH-INTERVAL;VALUE=DURATION:PT1H
X-Robots-Tag:noindex
X-PUBLISHED-TTL:PT1H
BEGIN:VTIMEZONE
TZID:Europe/London
BEGIN:DAYLIGHT
TZOFFSETFROM:+0000
TZOFFSETTO:+0100
TZNAME:BST
DTSTART:20250330T010000
END:DAYLIGHT
BEGIN:STANDARD
TZOFFSETFROM:+0100
TZOFFSETTO:+0000
TZNAME:GMT
DTSTART:20251026T010000
END:STANDARD
BEGIN:DAYLIGHT
TZOFFSETFROM:+0000
TZOFFSETTO:+0100
TZNAME:BST
DTSTART:20260329T010000
END:DAYLIGHT
BEGIN:STANDARD
TZOFFSETFROM:+0100
TZOFFSETTO:+0000
TZNAME:GMT
DTSTART:20261025T010000
END:STANDARD
BEGIN:DAYLIGHT
TZOFFSETFROM:+0000
TZOFFSETTO:+0100
TZNAME:BST
DTSTART:20270328T010000
END:DAYLIGHT
BEGIN:STANDARD
TZOFFSETFROM:+0100
TZOFFSETTO:+0000
TZNAME:GMT
DTSTART:20271031T010000
END:STANDARD
END:VTIMEZONE
BEGIN:VEVENT
DTSTART;TZID=Europe/London:20260430T140000
DTEND;TZID=Europe/London:20260430T154500
DTSTAMP:20260422T140544
CREATED:20260407T135343Z
LAST-MODIFIED:20260407T135447Z
UID:12811-1777557600-1777563900@unityonline.org.uk
SUMMARY:Extra Special Meeting - Andover Over 55s Peoples Forum
DESCRIPTION:An extra special meeting of the Andover Over 55s Peoples Forum with guest speaker - \nAlex Turner - Financial and Digital Skills Adviser from Citizens Advice Bureau\, Test Valley. \nFree Admission \nRefreshments Provided \nRaffle - small cost \nAll Welcome
URL:https://unityonline.org.uk/event/extra-special-meeting-andover-over-55s-peoples-forum/
LOCATION:Andover community Church·\, Charlton Road\, Andover\, SP10 3JH\, United Kingdom
CATEGORIES:support
ATTACH;FMTTYPE=image/png:https://unityonline.org.uk/wp-content/uploads/2026/03/aopf.png
END:VEVENT
END:VCALENDAR