BEGIN:VCALENDAR
VERSION:2.0
PRODID:-//Unity - ECPv6.15.17.1//NONSGML v1.0//EN
CALSCALE:GREGORIAN
METHOD:PUBLISH
X-WR-CALNAME:Unity
X-ORIGINAL-URL:https://unityonline.org.uk
X-WR-CALDESC:Events for Unity
REFRESH-INTERVAL;VALUE=DURATION:PT1H
X-Robots-Tag:noindex
X-PUBLISHED-TTL:PT1H
BEGIN:VTIMEZONE
TZID:Europe/London
BEGIN:DAYLIGHT
TZOFFSETFROM:+0000
TZOFFSETTO:+0100
TZNAME:BST
DTSTART:20240331T010000
END:DAYLIGHT
BEGIN:STANDARD
TZOFFSETFROM:+0100
TZOFFSETTO:+0000
TZNAME:GMT
DTSTART:20241027T010000
END:STANDARD
BEGIN:DAYLIGHT
TZOFFSETFROM:+0000
TZOFFSETTO:+0100
TZNAME:BST
DTSTART:20250330T010000
END:DAYLIGHT
BEGIN:STANDARD
TZOFFSETFROM:+0100
TZOFFSETTO:+0000
TZNAME:GMT
DTSTART:20251026T010000
END:STANDARD
BEGIN:DAYLIGHT
TZOFFSETFROM:+0000
TZOFFSETTO:+0100
TZNAME:BST
DTSTART:20260329T010000
END:DAYLIGHT
BEGIN:STANDARD
TZOFFSETFROM:+0100
TZOFFSETTO:+0000
TZNAME:GMT
DTSTART:20261025T010000
END:STANDARD
END:VTIMEZONE
BEGIN:VEVENT
DTSTART;VALUE=DATE:20250522
DTEND;VALUE=DATE:20250919
DTSTAMP:20260420T214432
CREATED:20250515T151745Z
LAST-MODIFIED:20250515T151745Z
UID:8452-1747872000-1758239999@unityonline.org.uk
SUMMARY:King John's House Garden Tours
DESCRIPTION:Discover the enchanting gardens of King John’s House. The garden tours offer a unique opportunity to explore the beauty and history of this historic site. \n📅 Tour dates: Thursday 22 May\, Thursday 19 June and Thursday 17 July\, Thursday 21 August\, Thursday 18 September at 10:30am. You can book online\, tickets are £5
URL:https://unityonline.org.uk/event/king-johns-house-garden-tours/
LOCATION:King John’s House & Museum Church Street\, Romsey\, SO51 8BT\, United Kingdom
CATEGORIES:family,History
ATTACH;FMTTYPE=image/jpeg:https://unityonline.org.uk/wp-content/uploads/2025/05/Garden-Tours-Poster-V2.jpg
END:VEVENT
BEGIN:VEVENT
DTSTART;TZID=Europe/London:20250701T110000
DTEND;TZID=Europe/London:20250722T120000
DTSTAMP:20260420T214432
CREATED:20250616T113620Z
LAST-MODIFIED:20250616T113620Z
UID:8988-1751367600-1753185600@unityonline.org.uk
SUMMARY:VR Gaming Sessions at The Mountbatten School\, Romsey
DESCRIPTION:This summer\, we’re bringing a whole new world of excitement to young people with our immersive VR experiences — combining fun\, education and a taste of the future. \nOur VR sessions are perfect for children aged 8–16 years\, and no previous experience is needed. Whether they’re complete beginners or budding VR enthusiasts\, everyone is welcome to come along\, have fun and try something new. \nSessions will run on the following dates on 1st\, 8th\, 15th and 22nd August\, 11am – 12pm
URL:https://unityonline.org.uk/event/vr-gaming-sessions-at-the-mountbatten-school-romsey/
LOCATION:The Mountbatten School\,\, Whitenap Lane\, Southampton\, SO51 5SY\, United Kingdom
CATEGORIES:School holidays
ATTACH;FMTTYPE=image/jpeg:https://unityonline.org.uk/wp-content/uploads/2025/06/VR-Experience.jpg
END:VEVENT
BEGIN:VEVENT
DTSTART;TZID=Europe/London:20250708T080000
DTEND;TZID=Europe/London:20250708T170000
DTSTAMP:20260420T214432
CREATED:20250708T084846Z
LAST-MODIFIED:20250708T084846Z
UID:9325-1751961600-1751994000@unityonline.org.uk
SUMMARY:Community Ownership and Cooperatives Workshops
DESCRIPTION:We are facing a time where grants and other funding streams are in great demand. We have talked to local people and organisations about their dreams and aspirations. This has inspired us to look at how we can think differently about the future. We held a successful Crowdfunder workshop in March and hope these two workshops will inspire you too. \nWorkshop 1 \n10 – 12 noon \nCooperatives \nMore than a shop\, what actually is a coop? \nWe’ve all heard of the coop supermarket\, but did you know that a cooperative is a business model where ownership is shared between the workers\, customers and/or residents\, instead of being focused in the hands of bosses and shareholders. Members control the business democratically through one member\, one vote. \nDoes this sound interesting? Do you want to know more? Is this a good fit for your project or idea? Is it a way forward for your organisation? Come and find out more from GCDA\, specialists in the field. \nWorkshop 2 \n12:30 – 14:30 \nCommunity Ownership \nWhat is an Asset of Community Value? Is there a local building or space you think would be a great community owned asset? \nWe presently have 3 pubs that have been nominated as Assets of Community Value in Rushmoor. There have been 6 unsuccessful applications since 2013. However\, it doesn’t have to be a pub or even a building! It can be land or buildings that the community uses or has used in the past and could use again. \nWant to know more? Come armed with your questions and ideas. \nCost: £10 – Join us for the day or one of the two workshops to help you understand more about the value of Community Ownership and Cooperatives. All tickets are £10 so come for the day to get the best value for your money. \nTicket options \n\nFull Day\nWorkshop 1\nWorkshop 2\n\nNote: Please only book the full day if you can attend both sessions\, this will help us manage numbers and ensure we can welcome as many people as possible.
URL:https://unityonline.org.uk/event/community-ownership-and-cooperatives-workshops/
LOCATION:Rushmoor Voluntary Services\, 1st Floor Civic Offices\, Farnborough Road\, Farnborough\, GU14 7JU\, United Kingdom
CATEGORIES:Training
ATTACH;FMTTYPE=image/png:https://unityonline.org.uk/wp-content/uploads/2025/07/Cooperatives-and-Community-Ownership-Workshops-768x644-1.png
END:VEVENT
END:VCALENDAR