BEGIN:VCALENDAR
VERSION:2.0
PRODID:-//Unity - ECPv6.15.17.1//NONSGML v1.0//EN
CALSCALE:GREGORIAN
METHOD:PUBLISH
X-WR-CALNAME:Unity
X-ORIGINAL-URL:https://unityonline.org.uk
X-WR-CALDESC:Events for Unity
REFRESH-INTERVAL;VALUE=DURATION:PT1H
X-Robots-Tag:noindex
X-PUBLISHED-TTL:PT1H
BEGIN:VTIMEZONE
TZID:Europe/London
BEGIN:DAYLIGHT
TZOFFSETFROM:+0000
TZOFFSETTO:+0100
TZNAME:BST
DTSTART:20240331T010000
END:DAYLIGHT
BEGIN:STANDARD
TZOFFSETFROM:+0100
TZOFFSETTO:+0000
TZNAME:GMT
DTSTART:20241027T010000
END:STANDARD
BEGIN:DAYLIGHT
TZOFFSETFROM:+0000
TZOFFSETTO:+0100
TZNAME:BST
DTSTART:20250330T010000
END:DAYLIGHT
BEGIN:STANDARD
TZOFFSETFROM:+0100
TZOFFSETTO:+0000
TZNAME:GMT
DTSTART:20251026T010000
END:STANDARD
BEGIN:DAYLIGHT
TZOFFSETFROM:+0000
TZOFFSETTO:+0100
TZNAME:BST
DTSTART:20260329T010000
END:DAYLIGHT
BEGIN:STANDARD
TZOFFSETFROM:+0100
TZOFFSETTO:+0000
TZNAME:GMT
DTSTART:20261025T010000
END:STANDARD
END:VTIMEZONE
BEGIN:VEVENT
DTSTART;VALUE=DATE:20250522
DTEND;VALUE=DATE:20250919
DTSTAMP:20260420T182857
CREATED:20250515T151745Z
LAST-MODIFIED:20250515T151745Z
UID:8452-1747872000-1758239999@unityonline.org.uk
SUMMARY:King John's House Garden Tours
DESCRIPTION:Discover the enchanting gardens of King John’s House. The garden tours offer a unique opportunity to explore the beauty and history of this historic site. \n📅 Tour dates: Thursday 22 May\, Thursday 19 June and Thursday 17 July\, Thursday 21 August\, Thursday 18 September at 10:30am. You can book online\, tickets are £5
URL:https://unityonline.org.uk/event/king-johns-house-garden-tours/
LOCATION:King John’s House & Museum Church Street\, Romsey\, SO51 8BT\, United Kingdom
CATEGORIES:family,History
ATTACH;FMTTYPE=image/jpeg:https://unityonline.org.uk/wp-content/uploads/2025/05/Garden-Tours-Poster-V2.jpg
END:VEVENT
BEGIN:VEVENT
DTSTART;VALUE=DATE:20250620
DTEND;VALUE=DATE:20250623
DTSTAMP:20260420T182857
CREATED:20250519T113822Z
LAST-MODIFIED:20250519T113822Z
UID:8522-1750377600-1750636799@unityonline.org.uk
SUMMARY:The Thruxton Retro
DESCRIPTION:Get ready for The Thruxton Retro - a brand new festival weekend blending live music\, entertainment\, high-octane racing and a groovy 70s 'Superfunk' themed party\, from 20-22 June.\n\n\nWhat’s in store?\n Live Music: With a showstopping set by BJÖRN AGAIN\, The Internationals\, Moonrider\, Earth Wind for Hire\, the 9 to 5 Show - Dolly Parton tribute\, Silent Disco\, plus live DJ sets.\nOn-Track Action: A packed schedule of racing including the return of the Jochen Rindt Trophy\, Classic F1 demos\, Car Club Parade Laps\, and a Soap Box Derby.\n Family Fun & Entertainment: Big Top Mania featuring circus skills and shows\, silent disco\, and playful car painting.\nFood & Drink: Indulge in craft beers\, cocktails\, and delicious food stalls throughout the weekend.\n Aviation Displays: Marvel at flyovers and historic aircraft displays\, plus helicopter flights.\n\n\nTickets start from £15\, with weekend passes at £60. Better still\, kids go free!\n\n\nGet ready to step back in time and catch Superfunk fever at Thruxton. Book now for a weekend of music\, entertainment and fun!
URL:https://unityonline.org.uk/event/the-thruxton-retro/
LOCATION:Thruxton\, Red Post Bridge\, Thruxton\, SP11 8PN\, United Kingdom
CATEGORIES:family,Music
ATTACH;FMTTYPE=image/jpeg:https://unityonline.org.uk/wp-content/uploads/2025/05/thruxton-retro-square-white-colour-wheel.jpg
END:VEVENT
BEGIN:VEVENT
DTSTART;TZID=Europe/London:20250621T220000
DTEND;TZID=Europe/London:20250622T020000
DTSTAMP:20260420T182857
CREATED:20250402T133940Z
LAST-MODIFIED:20250402T133940Z
UID:6905-1750543200-1750557600@unityonline.org.uk
SUMMARY:Countess of Brecknock Hospice 10@10 Late Night Walk 2025
DESCRIPTION:The 10@10 Late Night Walk is our flagship sponsored walk around Andover to raise vital funds for the Hospice. The walk starts at 10pm and you can take on the ten or five mile walk – hence 10@10! You are encouraged to wear neon\, fluorescent and flashing accessories to shine through the night\, remember those you love\, and support CoBH. \nEntry Fees are £15 for over 16\, £10 for under 16 plus sponsorship. No sponsorship tickets also available.
URL:https://unityonline.org.uk/event/countess-of-brecknock-hospice-1010-late-night-walk-2025/
LOCATION:Harrow Way Community School\, Harrow Way\, Andover\, SP10 3RH\, United Kingdom
ATTACH;FMTTYPE=image/jpeg:https://unityonline.org.uk/wp-content/uploads/2025/04/lets-shine-through-the-night.jpg
END:VEVENT
BEGIN:VEVENT
DTSTART;TZID=Europe/London:20250622T100000
DTEND;TZID=Europe/London:20250622T140000
DTSTAMP:20260420T182857
CREATED:20250613T104414Z
LAST-MODIFIED:20250613T104414Z
UID:8926-1750586400-1750600800@unityonline.org.uk
SUMMARY:Andover Wellbeing Fair
DESCRIPTION:Activities\, information and performances about all aspects of Wellbeing. A free event on Andover High Street\, open to all.
URL:https://unityonline.org.uk/event/andover-wellbeing-fair/
LOCATION:Andover HIgh Street\, Andover\, SP10 1LP\, United Kingdom
CATEGORIES:family
ATTACH;FMTTYPE=image/png:https://unityonline.org.uk/wp-content/uploads/2025/06/summer-wellbeing-fair-2025.png
END:VEVENT
BEGIN:VEVENT
DTSTART;TZID=Europe/London:20250622T100000
DTEND;TZID=Europe/London:20250622T160000
DTSTAMP:20260420T182857
CREATED:20250410T102925Z
LAST-MODIFIED:20250606T133722Z
UID:7140-1750586400-1750608000@unityonline.org.uk
SUMMARY:One Romsey – A Celebration of Culture and Diversity!
DESCRIPTION:FREE ENTRY – All Are Welcome!\n\n\nRomsey is coming alive this June with One Romsey\, an unforgettable celebration of culture\, unity\, and diversity! \n\n\nJoin us for a spectacular day of colour\, creativity\, and connection – a powerful showcase of the traditions\, music\, flavours\, and stories that shape who we are as a community.\n\n\n Live music and dance from around the world\n Art\, crafts & cultural exhibitions\n Incredible international street food\n Interactive storytelling & performances\n Family-friendly activities\n Inclusive spaces and community stalls\n\n\nWhether you're coming with friends\, family\, or just your curiosity — One Romsey welcomes YOU to celebrate what brings us together\, while honouring what makes us unique.\n\n\nLet’s fill the streets with joy\, rhythm\, laughter\, and the spirit of togetherness. This is more than just an event — it's a movement. \n\n\n Mark your calendars.\n Spread the word.\n Be part of something meaningful.
URL:https://unityonline.org.uk/event/one-romsey-a-celebration-of-culture-and-diversity/
LOCATION:Romsey Market Place\, Romsey\, SO51 8NA\, United Kingdom
CATEGORIES:Market
ATTACH;FMTTYPE=image/jpeg:https://unityonline.org.uk/wp-content/uploads/2025/04/one-romsey-event.jpg
END:VEVENT
END:VCALENDAR