BEGIN:VCALENDAR
VERSION:2.0
PRODID:-//Unity - ECPv6.15.17.1//NONSGML v1.0//EN
CALSCALE:GREGORIAN
METHOD:PUBLISH
X-WR-CALNAME:Unity
X-ORIGINAL-URL:https://unityonline.org.uk
X-WR-CALDESC:Events for Unity
REFRESH-INTERVAL;VALUE=DURATION:PT1H
X-Robots-Tag:noindex
X-PUBLISHED-TTL:PT1H
BEGIN:VTIMEZONE
TZID:Europe/London
BEGIN:DAYLIGHT
TZOFFSETFROM:+0000
TZOFFSETTO:+0100
TZNAME:BST
DTSTART:20240331T010000
END:DAYLIGHT
BEGIN:STANDARD
TZOFFSETFROM:+0100
TZOFFSETTO:+0000
TZNAME:GMT
DTSTART:20241027T010000
END:STANDARD
BEGIN:DAYLIGHT
TZOFFSETFROM:+0000
TZOFFSETTO:+0100
TZNAME:BST
DTSTART:20250330T010000
END:DAYLIGHT
BEGIN:STANDARD
TZOFFSETFROM:+0100
TZOFFSETTO:+0000
TZNAME:GMT
DTSTART:20251026T010000
END:STANDARD
BEGIN:DAYLIGHT
TZOFFSETFROM:+0000
TZOFFSETTO:+0100
TZNAME:BST
DTSTART:20260329T010000
END:DAYLIGHT
BEGIN:STANDARD
TZOFFSETFROM:+0100
TZOFFSETTO:+0000
TZNAME:GMT
DTSTART:20261025T010000
END:STANDARD
END:VTIMEZONE
BEGIN:VEVENT
DTSTART;VALUE=DATE:20250522
DTEND;VALUE=DATE:20250919
DTSTAMP:20260420T182958
CREATED:20250515T151745Z
LAST-MODIFIED:20250515T151745Z
UID:8452-1747872000-1758239999@unityonline.org.uk
SUMMARY:King John's House Garden Tours
DESCRIPTION:Discover the enchanting gardens of King John’s House. The garden tours offer a unique opportunity to explore the beauty and history of this historic site. \n📅 Tour dates: Thursday 22 May\, Thursday 19 June and Thursday 17 July\, Thursday 21 August\, Thursday 18 September at 10:30am. You can book online\, tickets are £5
URL:https://unityonline.org.uk/event/king-johns-house-garden-tours/
LOCATION:King John’s House & Museum Church Street\, Romsey\, SO51 8BT\, United Kingdom
CATEGORIES:family,History
ATTACH;FMTTYPE=image/jpeg:https://unityonline.org.uk/wp-content/uploads/2025/05/Garden-Tours-Poster-V2.jpg
END:VEVENT
BEGIN:VEVENT
DTSTART;TZID=Europe/London:20250619T103000
DTEND;TZID=Europe/London:20250619T110000
DTSTAMP:20260420T182958
CREATED:20250522T131143Z
LAST-MODIFIED:20250522T131143Z
UID:8603-1750329000-1750330800@unityonline.org.uk
SUMMARY:King John's House Garden Tours
DESCRIPTION:Join our gardeners for an informative tour about the gardens at King John's House and Museum.
URL:https://unityonline.org.uk/event/king-johns-house-garden-tours-2/
LOCATION:King John's House\, Church Street\, SO51 8BT\, United Kingdom
CATEGORIES:History
ATTACH;FMTTYPE=image/png:https://unityonline.org.uk/wp-content/uploads/2025/05/Garden-Tours-Poster.png
END:VEVENT
END:VCALENDAR