BEGIN:VCALENDAR
VERSION:2.0
PRODID:-//Unity - ECPv6.15.17.1//NONSGML v1.0//EN
CALSCALE:GREGORIAN
METHOD:PUBLISH
X-WR-CALNAME:Unity
X-ORIGINAL-URL:https://unityonline.org.uk
X-WR-CALDESC:Events for Unity
REFRESH-INTERVAL;VALUE=DURATION:PT1H
X-Robots-Tag:noindex
X-PUBLISHED-TTL:PT1H
BEGIN:VTIMEZONE
TZID:Europe/London
BEGIN:DAYLIGHT
TZOFFSETFROM:+0000
TZOFFSETTO:+0100
TZNAME:BST
DTSTART:20240331T010000
END:DAYLIGHT
BEGIN:STANDARD
TZOFFSETFROM:+0100
TZOFFSETTO:+0000
TZNAME:GMT
DTSTART:20241027T010000
END:STANDARD
BEGIN:DAYLIGHT
TZOFFSETFROM:+0000
TZOFFSETTO:+0100
TZNAME:BST
DTSTART:20250330T010000
END:DAYLIGHT
BEGIN:STANDARD
TZOFFSETFROM:+0100
TZOFFSETTO:+0000
TZNAME:GMT
DTSTART:20251026T010000
END:STANDARD
BEGIN:DAYLIGHT
TZOFFSETFROM:+0000
TZOFFSETTO:+0100
TZNAME:BST
DTSTART:20260329T010000
END:DAYLIGHT
BEGIN:STANDARD
TZOFFSETFROM:+0100
TZOFFSETTO:+0000
TZNAME:GMT
DTSTART:20261025T010000
END:STANDARD
END:VTIMEZONE
BEGIN:VEVENT
DTSTART;VALUE=DATE:20250522
DTEND;VALUE=DATE:20250919
DTSTAMP:20260420T183026
CREATED:20250515T151745Z
LAST-MODIFIED:20250515T151745Z
UID:8452-1747872000-1758239999@unityonline.org.uk
SUMMARY:King John's House Garden Tours
DESCRIPTION:Discover the enchanting gardens of King John’s House. The garden tours offer a unique opportunity to explore the beauty and history of this historic site. \n📅 Tour dates: Thursday 22 May\, Thursday 19 June and Thursday 17 July\, Thursday 21 August\, Thursday 18 September at 10:30am. You can book online\, tickets are £5
URL:https://unityonline.org.uk/event/king-johns-house-garden-tours/
LOCATION:King John’s House & Museum Church Street\, Romsey\, SO51 8BT\, United Kingdom
CATEGORIES:family,History
ATTACH;FMTTYPE=image/jpeg:https://unityonline.org.uk/wp-content/uploads/2025/05/Garden-Tours-Poster-V2.jpg
END:VEVENT
BEGIN:VEVENT
DTSTART;VALUE=DATE:20250524
DTEND;VALUE=DATE:20250601
DTSTAMP:20260420T183026
CREATED:20250519T101437Z
LAST-MODIFIED:20250519T101437Z
UID:8515-1748044800-1748735999@unityonline.org.uk
SUMMARY:Half Term Activities at Romsey Library
DESCRIPTION:Hal term events taking place\n\nElmer Day!\nSaturday 24th May\nActivities: 10am-4pm\, drop in\nStories: 11am\n\n\nStorytime - Fairy Tales\nTuesday 27th May\, 11am\nFantastical Fairy Tales* - Crafts and Activities\nTuesday 27th May\, 2-3pm\, £2 per child\nhttps://shop.hants.gov.uk/.../fantastical-fairy-tales...\n\n\nStay and Play\nThursday 29th May\, 12 - 4pm\n\n\nConstruction Club\nFriday 30th May\, 10am - 1pm\n\n\nItalian Storytime\nSaturday 31st May\, 11am\n\n\nOur regular activities will run as normal:\nSaturday Family Fun - Every Saturday\, 10am - 4pm\nConstruction Club - Every Saturday\, 1 - 4pm\nRhyme Time - Every Thursday 11am and Friday 2pm
URL:https://unityonline.org.uk/event/half-term-activities-at-romsey-library/
LOCATION:Romsey Library\, Station Road\,\, Romsey\, SO51 8DN\, United Kingdom
CATEGORIES:family,Young people
ATTACH;FMTTYPE=image/jpeg:https://unityonline.org.uk/wp-content/uploads/2025/05/half-term-at-romsey-library.jpg
END:VEVENT
BEGIN:VEVENT
DTSTART;TZID=Europe/London:20250524T100000
DTEND;TZID=Europe/London:20250601T160000
DTSTAMP:20260420T183026
CREATED:20250521T104832Z
LAST-MODIFIED:20250521T104832Z
UID:8575-1748080800-1748793600@unityonline.org.uk
SUMMARY:Railway family fact trail
DESCRIPTION:To celebrate 200 years of the passenger railway\, we've hidden trains all around the museum\, each with it's own railway fact. Can you find them all?Included with annual ticket.
URL:https://unityonline.org.uk/event/railway-family-fact-trail/
LOCATION:Museum of The Iron Age & Andover Museum\, 6 Church Close\, SP10 1DP\, United Kingdom
CATEGORIES:School holidays
ATTACH;FMTTYPE=image/jpeg:https://unityonline.org.uk/wp-content/uploads/2025/05/railway-activity.jpg
END:VEVENT
BEGIN:VEVENT
DTSTART;TZID=Europe/London:20250527T093000
DTEND;TZID=Europe/London:20250601T160000
DTSTAMP:20260420T183026
CREATED:20250523T142916Z
LAST-MODIFIED:20250523T142916Z
UID:8657-1748338200-1748793600@unityonline.org.uk
SUMMARY:FREE family-fun at the RLC Museum
DESCRIPTION:FREE family-fun at the RLC Museum this half-term\, whatever the weather Put the RLC Museum on your 'must visit' list this half-term holiday and enjoy our excellent\, all-weather attraction. Make your own bunting flag to add to the 500 on display Defuse a bomb Make and test your own parachute See Monty's D-Day Rolls-Royce Watch the cinema show See if you can sniff out what's cooking on the Soyer stove And find out about 300 years of military logistics We are open Tuesday to Saturday from 9.30 to 4pm. Entrance is free but donations are welcomed
URL:https://unityonline.org.uk/event/free-family-fun-at-the-rlc-museum/
LOCATION:The Royal Logistic Corps Museum\, Building 301\, Worthy Down\, SO21 2RG\, United Kingdom
CATEGORIES:School holidays,VE Day 2025
ATTACH;FMTTYPE=image/jpeg:https://unityonline.org.uk/wp-content/uploads/2025/05/may-half-term-free-family-day.jpg
END:VEVENT
END:VCALENDAR